Workbook
Name 学年: [1]Sheet1!$A$1:$A$3
Name 区間: [1]Sheet1!$A$1:$A$7
Name 都県番号: [2]予選成績!$F$6:$H$13

Sheet B-3男子
J1: Ｂ－３男子a
A2: 令和７年度 男子 第７８回関東高等学校駅伝競走大会
A3: 参 加 申 込 書
A5: 関東高等学校駅伝競走大会会長 様
A7: 別添出場認知書記載生徒は、本校在学生徒で標記大会に出場することを認め、参加申込みをします。
A9: 令和７年 月 日
C11: 都 県 | M11: 茨城
M12: 栃木
B13: 学校名 | H13: 高等学校 | M13: 群馬
M14: 埼玉
B15: 校長名 | H15: 印 | M15: 千葉
M16: 東京
B17: 所在地 | C17: (〒 ) | M17: 神奈川
M18: 山梨
E19: ℡
B21: 顧問名 | H21: 印
B22: 緊急連絡先（顧問携帯電話）
A24: 標記大会に下記書類・料金を添えて参加申込をします。
B26: ・参加申込書 | E26: Ｂ－３男子
B27: ・出場認知書 | E27: Ｂ－４男子
B28: ・参 加 料 | E28: ３０，０００円
B29: ・プログラム代 | E29: １，３００円× | H29: 冊 ＝ | I29: =1300*G29 -> 0 | K29: 円
D31: 合計金額 | E31: =30000+I29 -> 30000 | H31: 円
A33: 男 子

Sheet B-4男子
M1: Ｂ－４男子a
B3: 令和７年度 男子 第７８回関東高等学校駅伝競走大会
E4: 出 場 認 知 書
C5: ナンバーカード
M6: 都 ・ 県
C7: 学校名
E8: 高等学校 | H8: 監督名 | I8: 浦和 太郎
B10: NO | C10: ﾌﾘｶﾞﾅ | D10: ﾌﾘｶﾞﾅ | E10: 学年 | F10: 生年月日 | G10: 予 選 会 | L10: 自己最高記録
C11: 姓 | D11: 名 | G11: 区間 | H11: 順位 | I11: 記 録
B12: 1 | T12: =CONCATENATE(C12,S12,D12) | U12: =E12 -> 0
T13: =CONCATENATE(C13,S13,D13) | U13: =E13 -> 0
B14: 2 | T14: =CONCATENATE(C14,S14,D14) | U14: =E14 -> 0
T15: =CONCATENATE(C15,S15,D15) | U15: =E15 -> 0
B16: 3 | T16: =CONCATENATE(C16,S16,D16) | U16: =E16 -> 0
T17: =CONCATENATE(C17,S17,D17) | U17: =E17 -> 0
B18: 4 | T18: =CONCATENATE(C18,S18,D18) | U18: =E18 -> 0
T19: =CONCATENATE(C19,S19,D19) | U19: =E19 -> 0
B20: 5 | T20: =CONCATENATE(C20,S20,D20) | U20: =E20 -> 0
T21: =CONCATENATE(C21,S21,D21) | U21: =E21 -> 0
B22: 6 | T22: =CONCATENATE(C22,S22,D22) | U22: =E22 -> 0
T23: =CONCATENATE(C23,S23,D23) | U23: =E23 -> 0
B24: 7 | T24: =CONCATENATE(C24,S24,D24) | U24: =E24 -> 0
T25: =CONCATENATE(C25,S25,D25) | U25: =E25 -> 0
B26: 8 | T26: =CONCATENATE(C26,S26,D26) | U26: =E26 -> 0
T27: =CONCATENATE(C27,S27,D27) | U27: =E27 -> 0
B28: 9 | T28: =CONCATENATE(C28,S28,D28) | U28: =E28 -> 0
T29: =CONCATENATE(C29,S29,D29) | U29: =E29 -> 0
B30: 10 | T30: =CONCATENATE(C30,S30,D30) | U30: =E30 -> 0
T31: =CONCATENATE(C31,S31,D31) | U31: =E31 -> 0
B33: 関東高等学校駅伝競走大会会長 様
B35: 上記は本校在学生徒で、健康状態が良好であることを認め、参加申込をします。
G37: 令和７年 月 日
A38: 男 子

Sheet B-5男子
E1: Ｂ－５男子a
A3: 令和７年度 男子 第７８回関東高等学校駅伝競走大会
B4: オ ー ダ ー 用 紙
B5: ナンバーカード
B6: ='B-4男子'!C6 -> 0 | D6: ='B-4男子'!I6 -> 0 | E6: 都 ・ 県
B8: 学 校 名 | C8: ='B-4男子'!C8 -> 0 | E8: 高等学校
B9: 監督氏名 | C9: ='B-4男子'!I8 -> 浦和 太郎 | E9: 印
B11: 区間番号 | C11: 学年 | D11: ﾌﾘｶﾞﾅ
D12: 氏 名
C13: ='B-4男子'!U12 -> 0 | D13: ='B-4男子'!T12
D14: ='B-4男子'!T13
C15: ='B-4男子'!U14 -> 0 | D15: ='B-4男子'!T14
D16: ='B-4男子'!T15
C17: ='B-4男子'!U16 -> 0 | D17: ='B-4男子'!T16
D18: ='B-4男子'!T17
C19: ='B-4男子'!U18 -> 0 | D19: ='B-4男子'!T18
D20: ='B-4男子'!T19
C21: ='B-4男子'!U20 -> 0 | D21: ='B-4男子'!T20
D22: ='B-4男子'!T21
C23: ='B-4男子'!U22 -> 0 | D23: ='B-4男子'!T22
D24: ='B-4男子'!T23
C25: ='B-4男子'!U24 -> 0 | D25: ='B-4男子'!T24
D26: ='B-4男子'!T25
C27: ='B-4男子'!U26 -> 0 | D27: ='B-4男子'!T26
D28: ='B-4男子'!T27
C29: ='B-4男子'!U28 -> 0 | D29: ='B-4男子'!T28
D30: ='B-4男子'!T29
C31: ='B-4男子'!U30 -> 0 | D31: ='B-4男子'!T30
D32: ='B-4男子'!T31
B33: ※区間の番号 例１区→１、補欠→補と記入
A34: ＊１１月２１日（金）１１時３０分～１２時３０分
A35: 熊谷スポーツ文化公園正面玄関入口 オーダー提出受付に提出すること。
A37: 関東高等学校駅伝競走大会会長 様
A39: 上記は本校在学生徒で、健康状態が良好であることを認め、参加申込をします。
D41: 令和７年 月 日
A42: 男 子

Sheet B-6男子
F1: Ｂ－６男子a
A2: 令和７年度 男子 第７８回関東高等学校駅伝競走大会
A3: 選 手 変 更 届
B5: 関東高等学校駅伝競走大会会長 様
C7: ナンバーカード
C8: ='B-4男子'!C6 -> 0 | D8: ='B-4男子'!I6 -> 0 | E8: 都 ・ 県
C10: 学 校 名 | D10: ='B-4男子'!C8 -> 0 | E10: 高等学校
C11: 監督氏名 | D11: ='B-4男子'!I8 -> 浦和 太郎 | E11: 印
B13: 別添の医師診断書（事由）により、下記の記載通り選手を変更します。
C15: 区 間 | D15: ﾌﾘｶﾞﾅ | E15: ﾌﾘｶﾞﾅ
D16: 提出選手氏名 | E16: 変更選手氏名
C17: 第 １ 区
C19: 第 ２ 区
C21: 第 ３ 区
C23: 第 ４ 区
C25: 第 ５ 区
C27: 第 ６ 区
C29: 第 ７ 区
B32: ＊出場選手に変更ある場合は１１月２２日（土）に大会本部に提出すること。
C33: （大会当日、午前７時３０分～８時００分に提出すること。）
B34: ＊変更する区間の変更選手氏名欄に、変更選手名を記入すること。
B35: ＊医師の診断書を必ず添付すること。
C36: （本部に医師待機：午前７時３０分より）
A38: 男 子

Sheet B-3女子
J1: Ｂ－３女子b
A2: 令和７年度 女子 第３４回関東高等学校駅伝競走大会
A3: 参 加 申 込 書
A5: 関東高等学校駅伝競走大会会長 様
A7: 別添出場認知書記載生徒は、本校在学生徒で標記大会に出場することを認め、参加申込みをします。
A9: 令和７年 月 日
C11: 都 県 | M11: 茨城
M12: 栃木
B13: 学校名 | H13: 高等学校 | M13: 群馬
M14: 埼玉
B15: 校長名 | H15: 印 | M15: 千葉
M16: 東京
B17: 所在地 | C17: (〒 ) | M17: 神奈川
M18: 山梨
E19: ℡
B21: 顧問名 | H21: 印
B22: 緊急連絡先（顧問携帯電話）
A24: 標記大会に下記書類・料金を添えて参加申込をします。
B26: ・参加申込書 | E26: Ｂ－３女子
B27: ・出場認知書 | E27: Ｂ－４女子
B28: ・参 加 料 | E28: ３０，０００円
B29: ・プログラム代 | E29: １，３００円× | H29: 冊 ＝ | I29: =1300*G29 -> 0 | K29: 円
D31: 合計金額 | E31: =30000+I29 -> 30000 | H31: 円
I33: 女 子

Sheet B-4女子
M1: Ｂ－４女子b
B3: 令和７年度 女子 第３４回関東高等学校駅伝競走大会
E4: 出 場 認 知 書
C5: ナンバーカード
M6: 都 ・ 県
C7: 学校名
E8: 高等学校 | H8: 監督名
B10: NO | C10: ﾌﾘｶﾞﾅ | D10: ﾌﾘｶﾞﾅ | E10: 学年 | F10: 生年月日 | G10: 予 選 会 | L10: 自己最高記録
C11: 姓 | D11: 名 | G11: 区間 | H11: 順位 | I11: 記 録
B12: 1 | S12: =CONCATENATE(C12,R12,D12) | T12: =E12 -> 0
S13: =CONCATENATE(C13,R13,D13)
B14: 2 | S14: =CONCATENATE(C14,R14,D14) | T14: =E14 -> 0
S15: =CONCATENATE(C15,R15,D15)
B16: 3 | S16: =CONCATENATE(C16,R16,D16) | T16: =E16 -> 0
S17: =CONCATENATE(C17,R17,D17)
B18: 4 | S18: =CONCATENATE(C18,R18,D18) | T18: =E18 -> 0
S19: =CONCATENATE(C19,R19,D19)
B20: 5 | S20: =CONCATENATE(C20,R20,D20) | T20: =E20 -> 0
S21: =CONCATENATE(C21,R21,D21)
B22: 6 | S22: =CONCATENATE(C22,R22,D22) | T22: =E22 -> 0
S23: =CONCATENATE(C23,R23,D23)
B24: 7 | S24: =CONCATENATE(C24,R24,D24) | T24: =E24 -> 0
S25: =CONCATENATE(C25,R25,D25)
B26: 8 | S26: =CONCATENATE(C26,R26,D26) | T26: =E26 -> 0
S27: =CONCATENATE(C27,R27,D27)
B29: 関東高等学校駅伝競走大会会長 様
B31: 上記は本校在学生徒で、健康状態が良好であることを認め、参加申込をします。
G33: 令和７年 月 日
L36: 女 子

Sheet B-5女子
E1: Ｂ－５女子a
A3: 令和７年度 女子 第３４回関東高等学校駅伝競走大会
B4: オ ー ダ ー 用 紙
B5: ナンバーカード
B6: ='B-4女子'!C6 -> 0 | D6: ='B-4女子'!I6 -> 0 | E6: 都 ・ 県
B8: 学 校 名 | C8: ='B-4女子'!C8 -> 0 | E8: 高等学校
B9: 監督氏名 | C9: ='B-4女子'!I8 -> 0 | E9: 印
B11: 区間番号 | C11: 学年 | D11: ﾌﾘｶﾞﾅ
D12: 氏 名
C13: ='B-4女子'!T12 -> 0 | D13: ='B-4女子'!S12
D14: ='B-4女子'!S13
C15: ='B-4女子'!T14 -> 0 | D15: ='B-4女子'!S14
D16: ='B-4女子'!S15
C17: ='B-4女子'!T16 -> 0 | D17: ='B-4女子'!S16
D18: ='B-4女子'!S17
C19: ='B-4女子'!T18 -> 0 | D19: ='B-4女子'!S18
D20: ='B-4女子'!S19
C21: ='B-4女子'!T20 -> 0 | D21: ='B-4女子'!S20
D22: ='B-4女子'!S21
C23: ='B-4女子'!T22 -> 0 | D23: ='B-4女子'!S22
D24: ='B-4女子'!S23
C25: ='B-4女子'!T24 -> 0 | D25: ='B-4女子'!S24
D26: ='B-4女子'!S25
C27: ='B-4女子'!T26 -> 0 | D27: ='B-4女子'!S26
D28: ='B-4女子'!S27
B29: ※区間の番号 例１区→１、補欠→補と記入
A30: ＊１１月２１日（金）１１時３０分～１２時３０分
A31: 熊谷スポーツ文化公園正面玄関入口 オーダー提出受付に提出すること。
A33: 関東高等学校駅伝競走大会会長 様
A35: 上記は本校在学生徒で、健康状態が良好であることを認め、参加申込をします。
D37: 令和７年 月 日
E38: 女 子

Sheet B-6女子
F1: Ｂ－６女子a
A2: 令和７年度 女子 第３４回関東高等学校駅伝競走大会
A3: 選 手 変 更 届
B5: 関東高等学校駅伝競走大会会長 様
C7: ナンバーカード
C8: ='B-4女子'!C6 -> 0 | D8: ='B-4女子'!I6 -> 0 | E8: 都 ・ 県
C10: 学 校 名 | D10: ='B-4女子'!C8 -> 0 | E10: 高等学校
C11: 監督氏名 | D11: ='B-4女子'!I8 -> 0 | E11: 印
B13: 別添の医師診断書（事由）により、下記の記載通り選手を変更します。
C15: 区 間 | D15: ﾌﾘｶﾞﾅ | E15: ﾌﾘｶﾞﾅ
D16: 提出選手氏名 | E16: 変更選手氏名
C17: 第 １ 区
C19: 第 ２ 区
C21: 第 ３ 区
C23: 第 ４ 区
C25: 第 ５ 区
B28: ＊出場選手に変更ある場合は１１月２２日（土）に大会本部に提出すること。
C29: （大会当日、午前９時３０分～１０時００分に提出すること。）
B30: ＊変更する区間の変更選手氏名欄に、変更選手名を記入すること。
B31: ＊医師の診断書を必ず添付すること。
C32: （本部に医師待機：午前７時３０分より）
F34: 女 子
